BEGIN:VCALENDAR
VERSION:2.0
PRODID:-//KFFB 106.1 FM -- Arkansas Radio -- Online Radio--Arkansas Politics--Local News - ECPv6.15.20//NONSGML v1.0//EN
CALSCALE:GREGORIAN
METHOD:PUBLISH
X-ORIGINAL-URL:https://kffb.com
X-WR-CALDESC:Events for KFFB 106.1 FM -- Arkansas Radio -- Online Radio--Arkansas Politics--Local News
REFRESH-INTERVAL;VALUE=DURATION:PT1H
X-Robots-Tag:noindex
X-PUBLISHED-TTL:PT1H
BEGIN:VTIMEZONE
TZID:America/Chicago
BEGIN:DAYLIGHT
TZOFFSETFROM:-0600
TZOFFSETTO:-0500
TZNAME:CDT
DTSTART:20210314T080000
END:DAYLIGHT
BEGIN:STANDARD
TZOFFSETFROM:-0500
TZOFFSETTO:-0600
TZNAME:CST
DTSTART:20211107T070000
END:STANDARD
BEGIN:DAYLIGHT
TZOFFSETFROM:-0600
TZOFFSETTO:-0500
TZNAME:CDT
DTSTART:20220313T080000
END:DAYLIGHT
BEGIN:STANDARD
TZOFFSETFROM:-0500
TZOFFSETTO:-0600
TZNAME:CST
DTSTART:20221106T070000
END:STANDARD
BEGIN:DAYLIGHT
TZOFFSETFROM:-0600
TZOFFSETTO:-0500
TZNAME:CDT
DTSTART:20230312T080000
END:DAYLIGHT
BEGIN:STANDARD
TZOFFSETFROM:-0500
TZOFFSETTO:-0600
TZNAME:CST
DTSTART:20231105T070000
END:STANDARD
END:VTIMEZONE
BEGIN:VEVENT
DTSTART;TZID=America/Chicago:20220423T180000
DTEND;TZID=America/Chicago:20220423T180000
DTSTAMP:20260423T013143
CREATED:20220406T013156Z
LAST-MODIFIED:20220406T013156Z
UID:43410-1650736800-1650736800@kffb.com
SUMMARY:Hobo Dinner and Live Auction in Fairfield Bay
DESCRIPTION:Hobo Dinner and Silent and Live Auction Fundraiser\, Saturday\, April 23rd\, at 6 pm. Dinner consists of Hobo Stew\, Dr Pepper Beans\, Salad\, Rolls and Dessert with Coffee\, Hobo Punch. John Payton – Auctioneer. Tickets are 1 for $20 and 2 for $35. Contact Emma Baureis at 501 206-5915 for info or to purchase tickets.
URL:https://kffb.com/event/hobo-dinner-and-live-auction-in-fairfield-bay/
END:VEVENT
END:VCALENDAR