BEGIN:VCALENDAR
VERSION:2.0
PRODID:-//KFFB 106.1 FM -- Arkansas Radio -- Online Radio--Arkansas Politics--Local News - ECPv6.15.20//NONSGML v1.0//EN
CALSCALE:GREGORIAN
METHOD:PUBLISH
X-ORIGINAL-URL:https://kffb.com
X-WR-CALDESC:Events for KFFB 106.1 FM -- Arkansas Radio -- Online Radio--Arkansas Politics--Local News
REFRESH-INTERVAL;VALUE=DURATION:PT1H
X-Robots-Tag:noindex
X-PUBLISHED-TTL:PT1H
BEGIN:VTIMEZONE
TZID:America/Chicago
BEGIN:DAYLIGHT
TZOFFSETFROM:-0600
TZOFFSETTO:-0500
TZNAME:CDT
DTSTART:20210314T080000
END:DAYLIGHT
BEGIN:STANDARD
TZOFFSETFROM:-0500
TZOFFSETTO:-0600
TZNAME:CST
DTSTART:20211107T070000
END:STANDARD
BEGIN:DAYLIGHT
TZOFFSETFROM:-0600
TZOFFSETTO:-0500
TZNAME:CDT
DTSTART:20220313T080000
END:DAYLIGHT
BEGIN:STANDARD
TZOFFSETFROM:-0500
TZOFFSETTO:-0600
TZNAME:CST
DTSTART:20221106T070000
END:STANDARD
BEGIN:DAYLIGHT
TZOFFSETFROM:-0600
TZOFFSETTO:-0500
TZNAME:CDT
DTSTART:20230312T080000
END:DAYLIGHT
BEGIN:STANDARD
TZOFFSETFROM:-0500
TZOFFSETTO:-0600
TZNAME:CST
DTSTART:20231105T070000
END:STANDARD
END:VTIMEZONE
BEGIN:VEVENT
DTSTART;TZID=America/Chicago:20220430T080000
DTEND;TZID=America/Chicago:20220430T170000
DTSTAMP:20260423T013145
CREATED:20220328T171819Z
LAST-MODIFIED:20220328T171819Z
UID:43385-1651305600-1651338000@kffb.com
SUMMARY:Hope Fore Children Golf Tournament in Fairfield Bay
DESCRIPTION:The Children’s Advocacy Alliance is pleased to announce our inaugural Hope Fore Children Golf Tournament to be held on April 30\, 2022 at the Indian Hills Golf Resort in Fairfield Bay.  \nThe Children’s Advocacy Alliance is an independent nonprofit overseeing both a child advocacy center and a CASA (court appointed special advocates) program. The two programs work side by side to provide coordinated guidance\, treatment and support for child victims of abuse and neglect\, from the initial investigation of abuse to their placement in a safe\, permanent home.  \nChild abuse affects everyone in our community\, and we are working hard to increase awareness and engagement in our mission to create a brighter tomorrow for survivors. By sponsoring this tournament\, you will be making a difference in the lives of abused children from Faulkner\, Van Buren\, Conway\, Perry and Searcy Counties and helping us further our mission of providing hope\, healing and a voice for justice for abused and neglected children in our community. \nRegistration begins at 8:00 a.m. with an 9:00 shotgun start. Every participant will receive a swag bag and lunch\, and a chance to win amazing prizes. We do hope you’ll join us for a fun and competitive day. Enclosed is information on sponsoring as well as team registration.
URL:https://kffb.com/event/hope-fore-children-golf-tournament-in-fairfield-bay/
END:VEVENT
END:VCALENDAR