BEGIN:VCALENDAR
VERSION:2.0
PRODID:-//KFFB 106.1 FM -- Arkansas Radio -- Online Radio--Arkansas Politics--Local News - ECPv6.15.20//NONSGML v1.0//EN
CALSCALE:GREGORIAN
METHOD:PUBLISH
X-WR-CALNAME:KFFB 106.1 FM -- Arkansas Radio -- Online Radio--Arkansas Politics--Local News
X-ORIGINAL-URL:https://kffb.com
X-WR-CALDESC:Events for KFFB 106.1 FM -- Arkansas Radio -- Online Radio--Arkansas Politics--Local News
REFRESH-INTERVAL;VALUE=DURATION:PT1H
X-Robots-Tag:noindex
X-PUBLISHED-TTL:PT1H
BEGIN:VTIMEZONE
TZID:America/Chicago
BEGIN:DAYLIGHT
TZOFFSETFROM:-0600
TZOFFSETTO:-0500
TZNAME:CDT
DTSTART:20210314T080000
END:DAYLIGHT
BEGIN:STANDARD
TZOFFSETFROM:-0500
TZOFFSETTO:-0600
TZNAME:CST
DTSTART:20211107T070000
END:STANDARD
BEGIN:DAYLIGHT
TZOFFSETFROM:-0600
TZOFFSETTO:-0500
TZNAME:CDT
DTSTART:20220313T080000
END:DAYLIGHT
BEGIN:STANDARD
TZOFFSETFROM:-0500
TZOFFSETTO:-0600
TZNAME:CST
DTSTART:20221106T070000
END:STANDARD
BEGIN:DAYLIGHT
TZOFFSETFROM:-0600
TZOFFSETTO:-0500
TZNAME:CDT
DTSTART:20230312T080000
END:DAYLIGHT
BEGIN:STANDARD
TZOFFSETFROM:-0500
TZOFFSETTO:-0600
TZNAME:CST
DTSTART:20231105T070000
END:STANDARD
END:VTIMEZONE
BEGIN:VEVENT
DTSTART;VALUE=DATE:20220506
DTEND;VALUE=DATE:20220508
DTSTAMP:20260422T233619
CREATED:20220218T040829Z
LAST-MODIFIED:20220218T040829Z
UID:43166-1651795200-1651967999@kffb.com
SUMMARY:Library Sale in Fairfield Bay
DESCRIPTION:The annual library sale will be held May 6th & 7th in Fairfield Bay.
URL:https://kffb.com/event/library-sale-in-fairfield-bay/
END:VEVENT
BEGIN:VEVENT
DTSTART;VALUE=DATE:20220506
DTEND;VALUE=DATE:20220508
DTSTAMP:20260422T233619
CREATED:20220328T172645Z
LAST-MODIFIED:20220328T172704Z
UID:43389-1651795200-1651967999@kffb.com
SUMMARY:Junk and Drive on 65 in Clinton
DESCRIPTION:May 6th & 7th Junk & Drive on 65: Stretching from Marshall to Conway on Highway 65 this event is sure to attract foot traffic for local business while allowing you to do some spring cleaning. Business and individuals are encouraged to set up along Highway 65 the first weekend in May. Howards Antiques will have their Junk in the Trunk and The Pottery Shop will have their Pop up Market this weekend as well so there is sure to be buyers for whatever you are peddling. Individuals are encouraged to set up wherever they please but you can contact the Chamber of Commerce for help finding a spot.
URL:https://kffb.com/event/junk-and-drive-on-65-in-clinton/
END:VEVENT
BEGIN:VEVENT
DTSTART;VALUE=DATE:20220506
DTEND;VALUE=DATE:20220508
DTSTAMP:20260422T233619
CREATED:20220503T162534Z
LAST-MODIFIED:20220503T162534Z
UID:43518-1651795200-1651967999@kffb.com
SUMMARY:Blues and BBQ in Fairfield Bay
DESCRIPTION:The Blues & BBQ is back in the Bay! The event will take place May 6th and 7th. Music\, crafts\, competitions and more!
URL:https://kffb.com/event/blues-and-bbq-in-fairfield-bay/
END:VEVENT
BEGIN:VEVENT
DTSTART;VALUE=DATE:20220507
DTEND;VALUE=DATE:20220509
DTSTAMP:20260422T233619
CREATED:20220218T040109Z
LAST-MODIFIED:20220218T040109Z
UID:43156-1651881600-1652054399@kffb.com
SUMMARY:Junk and Drive on 65
DESCRIPTION:Junk & Drive 65\nSat\, May 7 – Sun\, May 8\, 2022\nAll-day\nJoin us for our community-wide effort to bring bargains\, sales\, and so much more to the area! From Conway to Clinton enjoy yard sales\, flea markets\, and unique finds!
URL:https://kffb.com/event/junk-and-drive-on-65/
END:VEVENT
BEGIN:VEVENT
DTSTART;VALUE=DATE:20220507
DTEND;VALUE=DATE:20220508
DTSTAMP:20260422T233619
CREATED:20220412T154655Z
LAST-MODIFIED:20220412T154655Z
UID:43432-1651881600-1651967999@kffb.com
SUMMARY:Vilonia Show and Shine Car Show
DESCRIPTION:The Vilonia Show and Shine Car Show will be hosted on May 7th. Registration will be held from 8am to 11am. The event will take place at the soccer sports complex.
URL:https://kffb.com/event/vilonia-show-and-shine-car-show/
END:VEVENT
BEGIN:VEVENT
DTSTART;VALUE=DATE:20220507
DTEND;VALUE=DATE:20220508
DTSTAMP:20260422T233619
CREATED:20220418T174915Z
LAST-MODIFIED:20220418T174928Z
UID:43446-1651881600-1651967999@kffb.com
SUMMARY:BBQ Rib Cook Off in Tumbling Shoals
DESCRIPTION:A BBQ Rib Cook off will be held at the Tumbling Shoals Volunteer Fire Department. Deadline To enter is April 23rd.
URL:https://kffb.com/event/bbq-rib-cook-off/
END:VEVENT
BEGIN:VEVENT
DTSTART;VALUE=DATE:20220507
DTEND;VALUE=DATE:20220508
DTSTAMP:20260422T233619
CREATED:20220503T162425Z
LAST-MODIFIED:20220503T162425Z
UID:43516-1651881600-1651967999@kffb.com
SUMMARY:Cabot Farmer's Market
DESCRIPTION:The Cabot Farmer’s Market is kicking off the 2022 spring season. The event will take place each Saturday at 1122 South Second Street.
URL:https://kffb.com/event/cabot-farmers-market/
END:VEVENT
BEGIN:VEVENT
DTSTART;TZID=America/Chicago:20220507T090000
DTEND;TZID=America/Chicago:20220507T090000
DTSTAMP:20260422T233619
CREATED:20220301T015449Z
LAST-MODIFIED:20220301T015449Z
UID:43225-1651914000-1651914000@kffb.com
SUMMARY:
DESCRIPTION:Come join us for our annual plant sale. It will also include a variety of vendors and activities for the kids. It will be part of Blooms\, Blues and BBQ festival in Fairfield Bay. It will be a fun day for the whole family. Come enjoy the fun and take home a trunk full of plants.
URL:https://kffb.com/event/43225/
END:VEVENT
BEGIN:VEVENT
DTSTART;TZID=America/Chicago:20220507T090000
DTEND;TZID=America/Chicago:20220507T130000
DTSTAMP:20260422T233619
CREATED:20220503T162743Z
LAST-MODIFIED:20220503T162743Z
UID:43524-1651914000-1651928400@kffb.com
SUMMARY:Master Gardener Plant Sale in Fairfield Bay
DESCRIPTION:Come join us for the annual Van Buren County Master Gardeners plant sale.  It will be on May 7\, 2022\, from 9 am – 1 pm.  It will be held at Ed Leamon Park in Fairfield Bay.  Ed Leamon Park is on Dave Creek Parkway\, which is in the heart of Fairfield Bay.  The plant sale will be part of Blooms\, Blues\, and BBQ\, a community festival.  There will be a plant sale\, vendors\, music\, food\, and activities for the children.  Come enjoy a fun-filled day and go home with a trunk full of plants!
URL:https://kffb.com/event/master-gardener-plant-sale-in-fairfield-bay/
END:VEVENT
BEGIN:VEVENT
DTSTART;TZID=America/Chicago:20220507T090000
DTEND;TZID=America/Chicago:20220507T150000
DTSTAMP:20260422T233619
CREATED:20220503T162703Z
LAST-MODIFIED:20220503T162703Z
UID:43522-1651914000-1651935600@kffb.com
SUMMARY:Fairfield Bay Senior Center Spring Flea Market
DESCRIPTION:Fairfield Bay Senior Center will be holding their Spring Flea market at the Senior Community Center on Dave Creek Parkway on Friday\, May 6th from noon to 6 pm\, and Saturday\, May 7th from 9 am – 3 pm.  This is one sale you will not want to miss!  Space is limited so call to reserve your space soon! 501-884-4930.
URL:https://kffb.com/event/fairfield-bay-senior-center-spring-flea-market/
END:VEVENT
END:VCALENDAR