BEGIN:VCALENDAR
VERSION:2.0
PRODID:-//KFFB 106.1 FM -- Arkansas Radio -- Online Radio--Arkansas Politics--Local News - ECPv6.15.20//NONSGML v1.0//EN
CALSCALE:GREGORIAN
METHOD:PUBLISH
X-ORIGINAL-URL:https://kffb.com
X-WR-CALDESC:Events for KFFB 106.1 FM -- Arkansas Radio -- Online Radio--Arkansas Politics--Local News
REFRESH-INTERVAL;VALUE=DURATION:PT1H
X-Robots-Tag:noindex
X-PUBLISHED-TTL:PT1H
BEGIN:VTIMEZONE
TZID:America/Chicago
BEGIN:DAYLIGHT
TZOFFSETFROM:-0600
TZOFFSETTO:-0500
TZNAME:CDT
DTSTART:20210314T080000
END:DAYLIGHT
BEGIN:STANDARD
TZOFFSETFROM:-0500
TZOFFSETTO:-0600
TZNAME:CST
DTSTART:20211107T070000
END:STANDARD
BEGIN:DAYLIGHT
TZOFFSETFROM:-0600
TZOFFSETTO:-0500
TZNAME:CDT
DTSTART:20220313T080000
END:DAYLIGHT
BEGIN:STANDARD
TZOFFSETFROM:-0500
TZOFFSETTO:-0600
TZNAME:CST
DTSTART:20221106T070000
END:STANDARD
BEGIN:DAYLIGHT
TZOFFSETFROM:-0600
TZOFFSETTO:-0500
TZNAME:CDT
DTSTART:20230312T080000
END:DAYLIGHT
BEGIN:STANDARD
TZOFFSETFROM:-0500
TZOFFSETTO:-0600
TZNAME:CST
DTSTART:20231105T070000
END:STANDARD
END:VTIMEZONE
BEGIN:VEVENT
DTSTART;VALUE=DATE:20220514
DTEND;VALUE=DATE:20220515
DTSTAMP:20260423T013204
CREATED:20220412T154821Z
LAST-MODIFIED:20220412T154821Z
UID:43434-1652486400-1652572799@kffb.com
SUMMARY:FFB Animal Protection League Golf Tournament
DESCRIPTION:FFB Animal Protection League Golf Tournament to raise money for the Fairfield Bay Animal Shelter. May 14 with a 9 AM Shotgun Start\, Teams of 4\, 18 hole scramble\, $60 per person and $240 per team\, includes breakfast\, snacks and lunch. Raffles and prizes. Sign up at the Indian Hills Golf Resort\, 331 Snead Dr. in Fairfield Bay\, AR.
URL:https://kffb.com/event/ffb-animal-protection-league-golf-tournament/
END:VEVENT
BEGIN:VEVENT
DTSTART;TZID=America/Chicago:20220514T090000
DTEND;TZID=America/Chicago:20220514T130000
DTSTAMP:20260423T013204
CREATED:20220503T163135Z
LAST-MODIFIED:20220503T163135Z
UID:43532-1652518800-1652533200@kffb.com
SUMMARY:Hidden Treasures Market in Fairfield Bay
DESCRIPTION:Hidden Treasures Market in the Park is back beginning Saturday\, May 14th at Woodland Mead Park from 9 am – 1 pm.  The market will be at the park every second and fourth Saturday until the end of October.  There is no cost to vendors and this is a free event that is open to the public.  To have a booth please just call the Chamber at 501-884-3324\, and leave a message letting us know that you will be setting up that Saturday.  Space available is on a first come first serve basis.  Please come support these local farmers and crafters this season!
URL:https://kffb.com/event/hidden-treasures-market-in-fairfield-bay-2/
END:VEVENT
BEGIN:VEVENT
DTSTART;TZID=America/Chicago:20220514T100000
DTEND;TZID=America/Chicago:20220514T170000
DTSTAMP:20260423T013204
CREATED:20220503T162216Z
LAST-MODIFIED:20220503T162216Z
UID:43514-1652522400-1652547600@kffb.com
SUMMARY:Conway RC’s Spring Fun Fly Event
DESCRIPTION:The Conway RC’s Spring Fun Fly Event will be held on May 14th starting at 10am.
URL:https://kffb.com/event/conway-rcs-spring-fun-fly-event/
END:VEVENT
BEGIN:VEVENT
DTSTART;TZID=America/Chicago:20220514T180000
DTEND;TZID=America/Chicago:20220514T180000
DTSTAMP:20260423T013204
CREATED:20220503T162828Z
LAST-MODIFIED:20220503T162828Z
UID:43526-1652551200-1652551200@kffb.com
SUMMARY:2nd Saturday Night Bingo in Fairfield Bay
DESCRIPTION:2nd Saturday Nite Bingo\, May 14th at St Albert Catholic Church\, 24 Park Rd\, Heber Springs. We start with quick fire games at 6 pm. Great Concession stand with good food and delicious home made desserts. Bring a friend and come enjoy the fun. Smokefree environment.
URL:https://kffb.com/event/2nd-saturday-night-bingo-in-fairfield-bay/
END:VEVENT
END:VCALENDAR