BEGIN:VCALENDAR
VERSION:2.0
PRODID:-//KFFB 106.1 FM -- Arkansas Radio -- Online Radio--Arkansas Politics--Local News - ECPv6.15.20//NONSGML v1.0//EN
CALSCALE:GREGORIAN
METHOD:PUBLISH
X-WR-CALNAME:KFFB 106.1 FM -- Arkansas Radio -- Online Radio--Arkansas Politics--Local News
X-ORIGINAL-URL:https://kffb.com
X-WR-CALDESC:Events for KFFB 106.1 FM -- Arkansas Radio -- Online Radio--Arkansas Politics--Local News
REFRESH-INTERVAL;VALUE=DURATION:PT1H
X-Robots-Tag:noindex
X-PUBLISHED-TTL:PT1H
BEGIN:VTIMEZONE
TZID:America/Chicago
BEGIN:DAYLIGHT
TZOFFSETFROM:-0600
TZOFFSETTO:-0500
TZNAME:CDT
DTSTART:20210314T080000
END:DAYLIGHT
BEGIN:STANDARD
TZOFFSETFROM:-0500
TZOFFSETTO:-0600
TZNAME:CST
DTSTART:20211107T070000
END:STANDARD
BEGIN:DAYLIGHT
TZOFFSETFROM:-0600
TZOFFSETTO:-0500
TZNAME:CDT
DTSTART:20220313T080000
END:DAYLIGHT
BEGIN:STANDARD
TZOFFSETFROM:-0500
TZOFFSETTO:-0600
TZNAME:CST
DTSTART:20221106T070000
END:STANDARD
BEGIN:DAYLIGHT
TZOFFSETFROM:-0600
TZOFFSETTO:-0500
TZNAME:CDT
DTSTART:20230312T080000
END:DAYLIGHT
BEGIN:STANDARD
TZOFFSETFROM:-0500
TZOFFSETTO:-0600
TZNAME:CST
DTSTART:20231105T070000
END:STANDARD
END:VTIMEZONE
BEGIN:VEVENT
DTSTART;VALUE=DATE:20220520
DTEND;VALUE=DATE:20220522
DTSTAMP:20260422T233655
CREATED:20220503T164433Z
LAST-MODIFIED:20220503T164433Z
UID:43542-1653004800-1653177599@kffb.com
SUMMARY:1st Annual Greers Ferry Lake Fest and Concert
DESCRIPTION:The 1st Annual Greers Ferry Lake Fest will be held May 20th-21st. Featuring Seven Hollows in concert on Friday night at 6:30\, and Matt Stell Saturday night at 6:30. The concerts will take place at the Eagle Bank stage in Fairfield Bay. For more information\, contact the city hall.
URL:https://kffb.com/event/1st-annual-greers-ferry-lake-fest-and-concert/
END:VEVENT
BEGIN:VEVENT
DTSTART;TZID=America/Chicago:20220520T190000
DTEND;TZID=America/Chicago:20220521T170000
DTSTAMP:20260422T233655
CREATED:20220512T175206Z
LAST-MODIFIED:20220512T175206Z
UID:43592-1653073200-1653152400@kffb.com
SUMMARY:
DESCRIPTION:Tent revival May 20&21 7:00 P.M. nightly with Pastor Brian McDonald from 1st Assembly of God\, Texarkana\, AR.Living Waters Ministries Pastor-Chris Martin & Vonda Martin. For more information\, call: 870-251-9137
URL:https://kffb.com/event/43592/
END:VEVENT
END:VCALENDAR