BEGIN:VCALENDAR
VERSION:2.0
PRODID:-//KFFB 106.1 FM -- Arkansas Radio -- Online Radio--Arkansas Politics--Local News - ECPv6.15.20//NONSGML v1.0//EN
CALSCALE:GREGORIAN
METHOD:PUBLISH
X-ORIGINAL-URL:https://kffb.com
X-WR-CALDESC:Events for KFFB 106.1 FM -- Arkansas Radio -- Online Radio--Arkansas Politics--Local News
REFRESH-INTERVAL;VALUE=DURATION:PT1H
X-Robots-Tag:noindex
X-PUBLISHED-TTL:PT1H
BEGIN:VTIMEZONE
TZID:America/Chicago
BEGIN:DAYLIGHT
TZOFFSETFROM:-0600
TZOFFSETTO:-0500
TZNAME:CDT
DTSTART:20210314T080000
END:DAYLIGHT
BEGIN:STANDARD
TZOFFSETFROM:-0500
TZOFFSETTO:-0600
TZNAME:CST
DTSTART:20211107T070000
END:STANDARD
BEGIN:DAYLIGHT
TZOFFSETFROM:-0600
TZOFFSETTO:-0500
TZNAME:CDT
DTSTART:20220313T080000
END:DAYLIGHT
BEGIN:STANDARD
TZOFFSETFROM:-0500
TZOFFSETTO:-0600
TZNAME:CST
DTSTART:20221106T070000
END:STANDARD
BEGIN:DAYLIGHT
TZOFFSETFROM:-0600
TZOFFSETTO:-0500
TZNAME:CDT
DTSTART:20230312T080000
END:DAYLIGHT
BEGIN:STANDARD
TZOFFSETFROM:-0500
TZOFFSETTO:-0600
TZNAME:CST
DTSTART:20231105T070000
END:STANDARD
END:VTIMEZONE
BEGIN:VEVENT
DTSTART;VALUE=DATE:20220708
DTEND;VALUE=DATE:20220711
DTSTAMP:20260422T201318
CREATED:20220630T223248Z
LAST-MODIFIED:20220630T223248Z
UID:43789-1657238400-1657497599@kffb.com
SUMMARY:Batesville Community Theatre’s FIRST PRODUCTION in the new Performing Arts Center
DESCRIPTION:Batesville Community Theatre’s FIRST PRODUCTION in the new Performing Arts Center\n1295 E. Main St.\, Batesville Arkansas \nMake plans to join us for Batesville Community Theatre’s inaugural production\,\n“The Star Spangled Girl” in our new Performing Arts Center July 8th\, 9th at 7 pm and 10th at 2 pm. Tickets are $20 at the door and will include light snacks and beverages. \nThe Neil Simon play\, which opened on Broadway in 1966\, is a light-hearted comedy about radicals Andy Hobart and Norman Cornell\, two earnest young men using their San Francisco apartment as a publishing office for their magazine. They are barely make a living working on the magazine when former Olympic swimmer Sophie Rauschmeyer\, a wholesome\, all-American girl\, moves into the apartment next door. “Norman becomes the epitome of a love sick puppy to the extreme\,” says Brandt McDonald\, actor and BCT board member\, “sniffing and everything.” \nWhitney Coleman Massey is directing the show\, with herself as Sophie\, Colyn Bowman as Andy Hobart and Brandt McDonald as Norman Cornell. Ms. Massey said “when one of the three characters is not on stage\, he or she is directing.” Both Mr. McDonald and Mr. Bowman have directed several shows and all three have played major roles in many BCT and other local productions. “With these three\, just let them go\, and watch the fun that ensues” said long-time BCT Vice-President Tommie McDonald. “This will be a fantastic opening to our new space.” \nThe BCT Performing Arts Center is located in the Town Plaza Shopping Center in the old Van Atkins department store space\, made possible through the generosity of the building owners and many\, many generous donors from our community. “The new space is the first permanent home for performances for BCT in 51 years\, and we are very proud and excited to be here” said Mr. Bowman\, also the BCT board president.
URL:https://kffb.com/event/batesville-community-theatres-first-production-in-the-new-performing-arts-center/
END:VEVENT
BEGIN:VEVENT
DTSTART;TZID=America/Chicago:20220710T180000
DTEND;TZID=America/Chicago:20220715T200000
DTSTAMP:20260422T201318
CREATED:20220629T015437Z
LAST-MODIFIED:20220629T015437Z
UID:43764-1657476000-1657915200@kffb.com
SUMMARY:Southside Baptist Church VBS in Heber Springs
DESCRIPTION:Southside Baptist Church of Heber Springs will be hosting Vacation Bible School July 10th – 15th\, from 6:00 P.M. to 8:15 P.M.\, for ages K- 6th grades.  Southside Baptist is located at 640 Highway 25 South in Heber Springs. For more information\, please call 501-362-9496.
URL:https://kffb.com/event/southside-baptist-church-vbs-in-heber-springs/
END:VEVENT
END:VCALENDAR