BEGIN:VCALENDAR
VERSION:2.0
PRODID:-//KFFB 106.1 FM -- Arkansas Radio -- Online Radio--Arkansas Politics--Local News - ECPv6.15.20//NONSGML v1.0//EN
CALSCALE:GREGORIAN
METHOD:PUBLISH
X-ORIGINAL-URL:https://kffb.com
X-WR-CALDESC:Events for KFFB 106.1 FM -- Arkansas Radio -- Online Radio--Arkansas Politics--Local News
REFRESH-INTERVAL;VALUE=DURATION:PT1H
X-Robots-Tag:noindex
X-PUBLISHED-TTL:PT1H
BEGIN:VTIMEZONE
TZID:America/Chicago
BEGIN:DAYLIGHT
TZOFFSETFROM:-0600
TZOFFSETTO:-0500
TZNAME:CDT
DTSTART:20210314T080000
END:DAYLIGHT
BEGIN:STANDARD
TZOFFSETFROM:-0500
TZOFFSETTO:-0600
TZNAME:CST
DTSTART:20211107T070000
END:STANDARD
BEGIN:DAYLIGHT
TZOFFSETFROM:-0600
TZOFFSETTO:-0500
TZNAME:CDT
DTSTART:20220313T080000
END:DAYLIGHT
BEGIN:STANDARD
TZOFFSETFROM:-0500
TZOFFSETTO:-0600
TZNAME:CST
DTSTART:20221106T070000
END:STANDARD
BEGIN:DAYLIGHT
TZOFFSETFROM:-0600
TZOFFSETTO:-0500
TZNAME:CDT
DTSTART:20230312T080000
END:DAYLIGHT
BEGIN:STANDARD
TZOFFSETFROM:-0500
TZOFFSETTO:-0600
TZNAME:CST
DTSTART:20231105T070000
END:STANDARD
END:VTIMEZONE
BEGIN:VEVENT
DTSTART;TZID=America/Chicago:20220716T080000
DTEND;TZID=America/Chicago:20220716T160000
DTSTAMP:20260422T200724
CREATED:20220623T210322Z
LAST-MODIFIED:20220623T210322Z
UID:43738-1657958400-1657987200@kffb.com
SUMMARY:Christmas in July Stone County
DESCRIPTION:The Stone CountyEHC Council are looking for vendors to participate in our Christmas in July\, Craft Fair\, July 16th from 8:00 till 4:00. The fair will be held at the Stone County Fairgrounds\,large building.\nTable/Table Space is $10.00 per table. If interested contact Sarah Gurley (870)213-7256 or Susan Carroll (870) 746-4789
URL:https://kffb.com/event/christmas-in-july-stone-county/
END:VEVENT
BEGIN:VEVENT
DTSTART;TZID=America/Chicago:20220716T100000
DTEND;TZID=America/Chicago:20220716T170000
DTSTAMP:20260422T200724
CREATED:20220630T223332Z
LAST-MODIFIED:20220630T223332Z
UID:43791-1657965600-1657990800@kffb.com
SUMMARY:American Pageant in Clinton
DESCRIPTION:July 16th 10:00 A.M. All American Pageant: Formal Wear and Patriotic Wear Pageant.  More details to come out soon.
URL:https://kffb.com/event/american-pageant-in-clinton/
END:VEVENT
END:VCALENDAR