BEGIN:VCALENDAR
VERSION:2.0
PRODID:-//KFFB 106.1 FM -- Arkansas Radio -- Online Radio--Arkansas Politics--Local News - ECPv6.15.20//NONSGML v1.0//EN
CALSCALE:GREGORIAN
METHOD:PUBLISH
X-WR-CALNAME:KFFB 106.1 FM -- Arkansas Radio -- Online Radio--Arkansas Politics--Local News
X-ORIGINAL-URL:https://kffb.com
X-WR-CALDESC:Events for KFFB 106.1 FM -- Arkansas Radio -- Online Radio--Arkansas Politics--Local News
REFRESH-INTERVAL;VALUE=DURATION:PT1H
X-Robots-Tag:noindex
X-PUBLISHED-TTL:PT1H
BEGIN:VTIMEZONE
TZID:America/Chicago
BEGIN:DAYLIGHT
TZOFFSETFROM:-0600
TZOFFSETTO:-0500
TZNAME:CDT
DTSTART:20210314T080000
END:DAYLIGHT
BEGIN:STANDARD
TZOFFSETFROM:-0500
TZOFFSETTO:-0600
TZNAME:CST
DTSTART:20211107T070000
END:STANDARD
BEGIN:DAYLIGHT
TZOFFSETFROM:-0600
TZOFFSETTO:-0500
TZNAME:CDT
DTSTART:20220313T080000
END:DAYLIGHT
BEGIN:STANDARD
TZOFFSETFROM:-0500
TZOFFSETTO:-0600
TZNAME:CST
DTSTART:20221106T070000
END:STANDARD
BEGIN:DAYLIGHT
TZOFFSETFROM:-0600
TZOFFSETTO:-0500
TZNAME:CDT
DTSTART:20230312T080000
END:DAYLIGHT
BEGIN:STANDARD
TZOFFSETFROM:-0500
TZOFFSETTO:-0600
TZNAME:CST
DTSTART:20231105T070000
END:STANDARD
END:VTIMEZONE
BEGIN:VEVENT
DTSTART;VALUE=DATE:20220905
DTEND;VALUE=DATE:20220911
DTSTAMP:20260422T164232
CREATED:20220905T155135Z
LAST-MODIFIED:20220905T155135Z
UID:43969-1662336000-1662854399@kffb.com
SUMMARY:Van Buren County Fair
DESCRIPTION:The Van Buren County Fair will begin September 5th with carnival rides beginning on the 7th.
URL:https://kffb.com/event/van-buren-county-fair-2/
END:VEVENT
BEGIN:VEVENT
DTSTART;VALUE=DATE:20220906
DTEND;VALUE=DATE:20220918
DTSTAMP:20260422T164232
CREATED:20220907T220128Z
LAST-MODIFIED:20220907T220128Z
UID:43977-1662422400-1663459199@kffb.com
SUMMARY:Wear and Share Bag Week
DESCRIPTION:Wear and Share in Fairfield Bay will be hosting bag week!
URL:https://kffb.com/event/wear-and-share-bag-week/
END:VEVENT
BEGIN:VEVENT
DTSTART;TZID=America/Chicago:20220908T100000
DTEND;TZID=America/Chicago:20220908T170000
DTSTAMP:20260422T164232
CREATED:20220905T160457Z
LAST-MODIFIED:20220905T160457Z
UID:43971-1662631200-1662656400@kffb.com
SUMMARY:Howard Baptist Church Gospel Blow Out
DESCRIPTION:The Howard Baptist Church will be hosting a Gospel Blow Out! 5 different Gospel Groups. Children’s bicycle parade\, Turtle Races\, Bounce House\, Scavenger Hunt and more! Hot Dogs\, Nachos\, Free Entry.
URL:https://kffb.com/event/howard-baptist-church-gospel-blow-out/
END:VEVENT
BEGIN:VEVENT
DTSTART;TZID=America/Chicago:20220908T183000
DTEND;TZID=America/Chicago:20220908T183000
DTSTAMP:20260422T164232
CREATED:20220827T151349Z
LAST-MODIFIED:20220827T151349Z
UID:43943-1662661800-1662661800@kffb.com
SUMMARY:Conway Symphony Orchestra Guild Concert
DESCRIPTION:The Conway Symphony Orchestra Guild invites you to “Jazz It Up!” at 6:30 p.m. on Thursday\, September 8\, on the stage of Reynolds Performance Hall. Drinks and hors d’oeuvres will be served. Enjoy live jazz and silent and live auctions to benefit the Conway Symphony Orchestra. Tickets are $75 each. Call 501-513-7096 to purchase tickets. That’s 501.513.7096.
URL:https://kffb.com/event/conway-symphony-orchestra-guild-concert/
END:VEVENT
BEGIN:VEVENT
DTSTART;TZID=America/Chicago:20220908T190000
DTEND;TZID=America/Chicago:20220908T190000
DTSTAMP:20260422T164232
CREATED:20220905T155005Z
LAST-MODIFIED:20220905T155005Z
UID:43967-1662663600-1662663600@kffb.com
SUMMARY:Operation Christmas Child Recipient Presentation
DESCRIPTION:Community event – September 8th at 7:00 PM at Pee Dee Baptist Church Shoebox recipient from the Philippines\, Evangeline Franzon\, shares her Operation Christmas Child Experience. Desert Fellowship Afterward.
URL:https://kffb.com/event/operation-christmas-child-recipient-presentation/
END:VEVENT
END:VCALENDAR