BEGIN:VCALENDAR
VERSION:2.0
PRODID:-//KFFB 106.1 FM -- Arkansas Radio -- Online Radio--Arkansas Politics--Local News - ECPv6.15.20//NONSGML v1.0//EN
CALSCALE:GREGORIAN
METHOD:PUBLISH
X-ORIGINAL-URL:https://kffb.com
X-WR-CALDESC:Events for KFFB 106.1 FM -- Arkansas Radio -- Online Radio--Arkansas Politics--Local News
REFRESH-INTERVAL;VALUE=DURATION:PT1H
X-Robots-Tag:noindex
X-PUBLISHED-TTL:PT1H
BEGIN:VTIMEZONE
TZID:America/Chicago
BEGIN:DAYLIGHT
TZOFFSETFROM:-0600
TZOFFSETTO:-0500
TZNAME:CDT
DTSTART:20210314T080000
END:DAYLIGHT
BEGIN:STANDARD
TZOFFSETFROM:-0500
TZOFFSETTO:-0600
TZNAME:CST
DTSTART:20211107T070000
END:STANDARD
BEGIN:DAYLIGHT
TZOFFSETFROM:-0600
TZOFFSETTO:-0500
TZNAME:CDT
DTSTART:20220313T080000
END:DAYLIGHT
BEGIN:STANDARD
TZOFFSETFROM:-0500
TZOFFSETTO:-0600
TZNAME:CST
DTSTART:20221106T070000
END:STANDARD
BEGIN:DAYLIGHT
TZOFFSETFROM:-0600
TZOFFSETTO:-0500
TZNAME:CDT
DTSTART:20230312T080000
END:DAYLIGHT
BEGIN:STANDARD
TZOFFSETFROM:-0500
TZOFFSETTO:-0600
TZNAME:CST
DTSTART:20231105T070000
END:STANDARD
END:VTIMEZONE
BEGIN:VEVENT
DTSTART;TZID=America/Chicago:20220922T140000
DTEND;TZID=America/Chicago:20220922T140000
DTSTAMP:20260422T164536
CREATED:20220922T015917Z
LAST-MODIFIED:20220922T015917Z
UID:44032-1663855200-1663855200@kffb.com
SUMMARY:Mayoral Candidate Forum in Searcy
DESCRIPTION:Make plans to join us on September 22nd at 2:00 p.m. for a Mayoral Candidate Forum. This meeting will be held via zoom.  See link below to join us. Thank you to our sponsors First Community Bank\, Unity Health\, and First Security Bank.
URL:https://kffb.com/event/mayoral-candidate-forum-in-searcy/
END:VEVENT
BEGIN:VEVENT
DTSTART;TZID=America/Chicago:20220922T170000
DTEND;TZID=America/Chicago:20220922T170000
DTSTAMP:20260422T164536
CREATED:20220922T015823Z
LAST-MODIFIED:20220922T015823Z
UID:44030-1663866000-1663866000@kffb.com
SUMMARY:Martini Party in Fairfield Bay
DESCRIPTION:The FBYC Club will furnish martinis\, Bring an appetizer to pass. All members will receive a raffle ticket for a chance to win a $50 prize. Nominating committee for our 2023 officers. Any guest joining us there is a $10 charge
URL:https://kffb.com/event/martini-party-in-fairfield-bay/
END:VEVENT
END:VCALENDAR