BEGIN:VCALENDAR
VERSION:2.0
PRODID:-//KFFB 106.1 FM -- Arkansas Radio -- Online Radio--Arkansas Politics--Local News - ECPv6.15.20//NONSGML v1.0//EN
CALSCALE:GREGORIAN
METHOD:PUBLISH
X-ORIGINAL-URL:https://kffb.com
X-WR-CALDESC:Events for KFFB 106.1 FM -- Arkansas Radio -- Online Radio--Arkansas Politics--Local News
REFRESH-INTERVAL;VALUE=DURATION:PT1H
X-Robots-Tag:noindex
X-PUBLISHED-TTL:PT1H
BEGIN:VTIMEZONE
TZID:America/Chicago
BEGIN:DAYLIGHT
TZOFFSETFROM:-0600
TZOFFSETTO:-0500
TZNAME:CDT
DTSTART:20210314T080000
END:DAYLIGHT
BEGIN:STANDARD
TZOFFSETFROM:-0500
TZOFFSETTO:-0600
TZNAME:CST
DTSTART:20211107T070000
END:STANDARD
BEGIN:DAYLIGHT
TZOFFSETFROM:-0600
TZOFFSETTO:-0500
TZNAME:CDT
DTSTART:20220313T080000
END:DAYLIGHT
BEGIN:STANDARD
TZOFFSETFROM:-0500
TZOFFSETTO:-0600
TZNAME:CST
DTSTART:20221106T070000
END:STANDARD
BEGIN:DAYLIGHT
TZOFFSETFROM:-0600
TZOFFSETTO:-0500
TZNAME:CDT
DTSTART:20230312T080000
END:DAYLIGHT
BEGIN:STANDARD
TZOFFSETFROM:-0500
TZOFFSETTO:-0600
TZNAME:CST
DTSTART:20231105T070000
END:STANDARD
END:VTIMEZONE
BEGIN:VEVENT
DTSTART;VALUE=DATE:20221007
DTEND;VALUE=DATE:20221009
DTSTAMP:20260422T165031
CREATED:20220922T020107Z
LAST-MODIFIED:20220922T020107Z
UID:44036-1665100800-1665273599@kffb.com
SUMMARY:Oktoberfest in Fairfield Bay
DESCRIPTION:Oktoberfest\, October 7th and 8th in the Towne Center.  The Chamber will once again have a booth right outside our building in the Towne Center where event participants can win lots of great prizes!
URL:https://kffb.com/event/oktoberfest-in-fairfield-bay-2/
END:VEVENT
BEGIN:VEVENT
DTSTART;VALUE=DATE:20221007
DTEND;VALUE=DATE:20221009
DTSTAMP:20260422T165031
CREATED:20221007T025628Z
LAST-MODIFIED:20221007T025628Z
UID:44093-1665100800-1665273599@kffb.com
SUMMARY:Grand Isle Neighborhood Garage Sale
DESCRIPTION:Neighborhood wide garage sale Friday October 7 and Saturday October 8 2022 Start time 8 am Look for red balloons on mail boxes to signify there is a sale at that location
URL:https://kffb.com/event/grand-isle-neighborhood-garage-sale/
END:VEVENT
BEGIN:VEVENT
DTSTART;TZID=America/Chicago:20221007T070000
DTEND;TZID=America/Chicago:20221008T160000
DTSTAMP:20260422T165031
CREATED:20221002T031509Z
LAST-MODIFIED:20221002T031509Z
UID:44074-1665126000-1665244800@kffb.com
SUMMARY:Junkin at The Lake in Greers Ferry
DESCRIPTION:Junkin At The Lake October 7-8 in Greers Ferry. 9am-4pm each day. Junkin At The Lake is a vintage\, antique\, artisan\, boutique and much more outdoor marketplace event. Admission is $5\, 12 and under free\nFor more information junkinatthelake.com
URL:https://kffb.com/event/junkin-at-the-lake-in-greers-ferry/
END:VEVENT
BEGIN:VEVENT
DTSTART;TZID=America/Chicago:20221008T090000
DTEND;TZID=America/Chicago:20221008T170000
DTSTAMP:20260422T165031
CREATED:20221007T030413Z
LAST-MODIFIED:20221007T030413Z
UID:44105-1665219600-1665248400@kffb.com
SUMMARY:Bulb Sale in Fairfield Bay
DESCRIPTION:Fall is for Planting: the BirdSong Gardeners are selling 14 varieties of spring Bulbs on THE PORCH at SARABELLAS to support the addition of 30 more beds to the charity gardens that provide fresh produce to a local foodbank. Give your yard the excitement of early blooming bulbs!
URL:https://kffb.com/event/bulb-sale-in-fairfield-bay/
END:VEVENT
BEGIN:VEVENT
DTSTART;TZID=America/Chicago:20221008T110000
DTEND;TZID=America/Chicago:20221008T170000
DTSTAMP:20260422T165031
CREATED:20220914T024434Z
LAST-MODIFIED:20220914T024434Z
UID:44011-1665226800-1665248400@kffb.com
SUMMARY:Chili King Cook-Off in Clinton
DESCRIPTION:October 8th 11:00 A.M. Chili King Cook-off: Join us for this outdoor chili cook-off with around 20 different kinds of chili and craft booths to complete the experience.  For $5 at the gate you can eat all the chili you can while supplies last\, participate in a hot eating challenge and help decide the people’s choice awards.  With live bands to follow the cook-off you can carry your experience through the afternoon & evening.  Contact Jason at the Clinton Chamber of Commerce to register in the Chili Competition or have a craft booth at 501-745-6500 or at cltchamber@artelco.com
URL:https://kffb.com/event/chili-king-cook-off-in-clinton/
END:VEVENT
BEGIN:VEVENT
DTSTART;TZID=America/Chicago:20221008T190000
DTEND;TZID=America/Chicago:20221008T190000
DTSTAMP:20260422T165031
CREATED:20221005T174838Z
LAST-MODIFIED:20221005T174838Z
UID:44083-1665255600-1665255600@kffb.com
SUMMARY:The Fall Concert at Ozarka College's Amphitheatre in Mountain View
DESCRIPTION:The Ozarka College Foundation will host The Fall Concert at Ozarka College’s Amphitheatre in Mountain View\, Arkansas on October 8\, 2022. The event will begin at 7:00 p.m. and will feature talented musicians: Brad Apple\, Crystal McCool\, Mary Parker\, Gary Rounds\, and Pam Setser\, with special guests Turner Atwell and Lillyanne McCool.
URL:https://kffb.com/event/the-fall-concert-at-ozarka-colleges-amphitheatre-in-mountain-view/
END:VEVENT
END:VCALENDAR