BEGIN:VCALENDAR
VERSION:2.0
PRODID:-//KFFB 106.1 FM -- Arkansas Radio -- Online Radio--Arkansas Politics--Local News - ECPv6.15.20//NONSGML v1.0//EN
CALSCALE:GREGORIAN
METHOD:PUBLISH
X-ORIGINAL-URL:https://kffb.com
X-WR-CALDESC:Events for KFFB 106.1 FM -- Arkansas Radio -- Online Radio--Arkansas Politics--Local News
REFRESH-INTERVAL;VALUE=DURATION:PT1H
X-Robots-Tag:noindex
X-PUBLISHED-TTL:PT1H
BEGIN:VTIMEZONE
TZID:America/Chicago
BEGIN:DAYLIGHT
TZOFFSETFROM:-0600
TZOFFSETTO:-0500
TZNAME:CDT
DTSTART:20210314T080000
END:DAYLIGHT
BEGIN:STANDARD
TZOFFSETFROM:-0500
TZOFFSETTO:-0600
TZNAME:CST
DTSTART:20211107T070000
END:STANDARD
BEGIN:DAYLIGHT
TZOFFSETFROM:-0600
TZOFFSETTO:-0500
TZNAME:CDT
DTSTART:20220313T080000
END:DAYLIGHT
BEGIN:STANDARD
TZOFFSETFROM:-0500
TZOFFSETTO:-0600
TZNAME:CST
DTSTART:20221106T070000
END:STANDARD
BEGIN:DAYLIGHT
TZOFFSETFROM:-0600
TZOFFSETTO:-0500
TZNAME:CDT
DTSTART:20230312T080000
END:DAYLIGHT
BEGIN:STANDARD
TZOFFSETFROM:-0500
TZOFFSETTO:-0600
TZNAME:CST
DTSTART:20231105T070000
END:STANDARD
END:VTIMEZONE
BEGIN:VEVENT
DTSTART;TZID=America/Chicago:20221216T080000
DTEND;TZID=America/Chicago:20221217T170000
DTSTAMP:20260422T083512
CREATED:20221215T033753Z
LAST-MODIFIED:20221215T033753Z
UID:44343-1671177600-1671296400@kffb.com
SUMMARY:Christmas Bazaar in Clinton
DESCRIPTION:Come see the many vendors and handcrafted items at the Annual Christmas Bazaar in Clinton. Friday and Saturday from 8am to 5pm.
URL:https://kffb.com/event/christmas-bazaar-in-clinton/
END:VEVENT
BEGIN:VEVENT
DTSTART;TZID=America/Chicago:20221217T120000
DTEND;TZID=America/Chicago:20221217T130000
DTSTAMP:20260422T083512
CREATED:20221209T012126Z
LAST-MODIFIED:20221209T012126Z
UID:44339-1671278400-1671282000@kffb.com
SUMMARY:Ruddell Hill Free Community Drive Thru Lunch
DESCRIPTION:Ruddell Hill Baptist Church will be hosting a free community Drive-Thru Lunch on Saturday\, December 17th\, 2022 from 12:00 pm to 1:00 pm. We will serve free sandwiches and snacks. First come\, first serve! Invite your family and friends and anyone you know that may be in need of a meal.
URL:https://kffb.com/event/ruddell-hill-free-community-drive-thru-lunch/
END:VEVENT
BEGIN:VEVENT
DTSTART;TZID=America/Chicago:20221217T160000
DTEND;TZID=America/Chicago:20221217T170000
DTSTAMP:20260422T083512
CREATED:20221209T011755Z
LAST-MODIFIED:20221209T011755Z
UID:44333-1671292800-1671296400@kffb.com
SUMMARY:Conway Christmas Parade
DESCRIPTION:The Conway Christmas Parade will be held downtown starting at 4pm.
URL:https://kffb.com/event/conway-christmas-parade-3/
END:VEVENT
END:VCALENDAR