BEGIN:VCALENDAR
VERSION:2.0
PRODID:-//KFFB 106.1 FM -- Arkansas Radio -- Online Radio--Arkansas Politics--Local News - ECPv6.15.20//NONSGML v1.0//EN
CALSCALE:GREGORIAN
METHOD:PUBLISH
X-WR-CALNAME:KFFB 106.1 FM -- Arkansas Radio -- Online Radio--Arkansas Politics--Local News
X-ORIGINAL-URL:https://kffb.com
X-WR-CALDESC:Events for KFFB 106.1 FM -- Arkansas Radio -- Online Radio--Arkansas Politics--Local News
REFRESH-INTERVAL;VALUE=DURATION:PT1H
X-Robots-Tag:noindex
X-PUBLISHED-TTL:PT1H
BEGIN:VTIMEZONE
TZID:America/Chicago
BEGIN:DAYLIGHT
TZOFFSETFROM:-0600
TZOFFSETTO:-0500
TZNAME:CDT
DTSTART:20220313T080000
END:DAYLIGHT
BEGIN:STANDARD
TZOFFSETFROM:-0500
TZOFFSETTO:-0600
TZNAME:CST
DTSTART:20221106T070000
END:STANDARD
BEGIN:DAYLIGHT
TZOFFSETFROM:-0600
TZOFFSETTO:-0500
TZNAME:CDT
DTSTART:20230312T080000
END:DAYLIGHT
BEGIN:STANDARD
TZOFFSETFROM:-0500
TZOFFSETTO:-0600
TZNAME:CST
DTSTART:20231105T070000
END:STANDARD
BEGIN:DAYLIGHT
TZOFFSETFROM:-0600
TZOFFSETTO:-0500
TZNAME:CDT
DTSTART:20240310T080000
END:DAYLIGHT
BEGIN:STANDARD
TZOFFSETFROM:-0500
TZOFFSETTO:-0600
TZNAME:CST
DTSTART:20241103T070000
END:STANDARD
END:VTIMEZONE
BEGIN:VEVENT
DTSTART;TZID=America/Chicago:20230211T130000
DTEND;TZID=America/Chicago:20230211T130000
DTSTAMP:20260422T085353
CREATED:20230124T031219Z
LAST-MODIFIED:20230124T031219Z
UID:44434-1676120400-1676120400@kffb.com
SUMMARY:Art Walk\, Chocolate and Wine in Fairfield Bay
DESCRIPTION:Benefit by local artists with 75 pieces of art for sale\, beautiful Valentines chocolate goodies including cupcakes and candies\, art auction benefits art workshops\, chocolates benefit help those in need.
URL:https://kffb.com/event/art-walk-chocolate-and-wine-in-fairfield-bay/
END:VEVENT
BEGIN:VEVENT
DTSTART;TZID=America/Chicago:20230211T160000
DTEND;TZID=America/Chicago:20230211T160000
DTSTAMP:20260422T085353
CREATED:20230128T175648Z
LAST-MODIFIED:20230128T175648Z
UID:44468-1676131200-1676131200@kffb.com
SUMMARY:25th Annual Valentines Dinner in Tumbling Shoals
DESCRIPTION:Tumbling Shoals/Ida Fire Department 25th Valentines Steak Dinner. Dine In or Carry out.\n$20 in Advance or $25 at the door. Includes:\n8oz New York Strip\, Vegetable\, drink\, baked potato\, Bread\, Dessert. Also a silent Auction for pies and cakes. TICKETS OR INFORMATION\nTHE PRINT SHOP\, Shelter insurance Tim Brewer\,\nTumbling Shoals Watet Department. PLEASE SUPPORT YOUR VOLUNTEER FIRE DEPT.
URL:https://kffb.com/event/25th-annual-valentines-dinner-in-tumbling-shoals/
END:VEVENT
END:VCALENDAR