BEGIN:VCALENDAR
VERSION:2.0
PRODID:-//KFFB 106.1 FM -- Arkansas Radio -- Online Radio--Arkansas Politics--Local News - ECPv6.15.20//NONSGML v1.0//EN
CALSCALE:GREGORIAN
METHOD:PUBLISH
X-ORIGINAL-URL:https://kffb.com
X-WR-CALDESC:Events for KFFB 106.1 FM -- Arkansas Radio -- Online Radio--Arkansas Politics--Local News
REFRESH-INTERVAL;VALUE=DURATION:PT1H
X-Robots-Tag:noindex
X-PUBLISHED-TTL:PT1H
BEGIN:VTIMEZONE
TZID:America/Chicago
BEGIN:DAYLIGHT
TZOFFSETFROM:-0600
TZOFFSETTO:-0500
TZNAME:CDT
DTSTART:20220313T080000
END:DAYLIGHT
BEGIN:STANDARD
TZOFFSETFROM:-0500
TZOFFSETTO:-0600
TZNAME:CST
DTSTART:20221106T070000
END:STANDARD
BEGIN:DAYLIGHT
TZOFFSETFROM:-0600
TZOFFSETTO:-0500
TZNAME:CDT
DTSTART:20230312T080000
END:DAYLIGHT
BEGIN:STANDARD
TZOFFSETFROM:-0500
TZOFFSETTO:-0600
TZNAME:CST
DTSTART:20231105T070000
END:STANDARD
BEGIN:DAYLIGHT
TZOFFSETFROM:-0600
TZOFFSETTO:-0500
TZNAME:CDT
DTSTART:20240310T080000
END:DAYLIGHT
BEGIN:STANDARD
TZOFFSETFROM:-0500
TZOFFSETTO:-0600
TZNAME:CST
DTSTART:20241103T070000
END:STANDARD
END:VTIMEZONE
BEGIN:VEVENT
DTSTART;TZID=America/Chicago:20230221T090000
DTEND;TZID=America/Chicago:20230221T130000
DTSTAMP:20260422T085712
CREATED:20230208T221347Z
LAST-MODIFIED:20230208T221347Z
UID:44508-1676970000-1676984400@kffb.com
SUMMARY:AARP Smart DriverTM Classroom Course in Heber Springs
DESCRIPTION:AARP Smart DriverTM Classroom Course will be held on February 21st\, 2023 (TUESDAY) from 9:00AM-1:00PM\nat the Sugarloaf Baptist Church in Heber Springs.
URL:https://kffb.com/event/aarp-smart-drivertm-classroom-course-in-heber-springs/
END:VEVENT
END:VCALENDAR