BEGIN:VCALENDAR
VERSION:2.0
PRODID:-//KFFB 106.1 FM -- Arkansas Radio -- Online Radio--Arkansas Politics--Local News - ECPv6.15.20//NONSGML v1.0//EN
CALSCALE:GREGORIAN
METHOD:PUBLISH
X-ORIGINAL-URL:https://kffb.com
X-WR-CALDESC:Events for KFFB 106.1 FM -- Arkansas Radio -- Online Radio--Arkansas Politics--Local News
REFRESH-INTERVAL;VALUE=DURATION:PT1H
X-Robots-Tag:noindex
X-PUBLISHED-TTL:PT1H
BEGIN:VTIMEZONE
TZID:America/Chicago
BEGIN:DAYLIGHT
TZOFFSETFROM:-0600
TZOFFSETTO:-0500
TZNAME:CDT
DTSTART:20200308T080000
END:DAYLIGHT
BEGIN:STANDARD
TZOFFSETFROM:-0500
TZOFFSETTO:-0600
TZNAME:CST
DTSTART:20201101T070000
END:STANDARD
BEGIN:DAYLIGHT
TZOFFSETFROM:-0600
TZOFFSETTO:-0500
TZNAME:CDT
DTSTART:20210314T080000
END:DAYLIGHT
BEGIN:STANDARD
TZOFFSETFROM:-0500
TZOFFSETTO:-0600
TZNAME:CST
DTSTART:20211107T070000
END:STANDARD
BEGIN:DAYLIGHT
TZOFFSETFROM:-0600
TZOFFSETTO:-0500
TZNAME:CDT
DTSTART:20220313T080000
END:DAYLIGHT
BEGIN:STANDARD
TZOFFSETFROM:-0500
TZOFFSETTO:-0600
TZNAME:CST
DTSTART:20221106T070000
END:STANDARD
END:VTIMEZONE
BEGIN:VEVENT
DTSTART;TZID=America/Chicago:20210805T180000
DTEND;TZID=America/Chicago:20210805T180000
DTSTAMP:20260422T070043
CREATED:20210716T182300Z
LAST-MODIFIED:20210716T182300Z
UID:41960-1628186400-1628186400@kffb.com
SUMMARY:Old Soldier's Reunion Parade
DESCRIPTION:The Old Soldier’s Reunion Parade will be held August 5th with the lineup starting at 5:30 at the Harp’s Parking Lot. The parade will start at 6pm sharp.
URL:https://kffb.com/event/old-soldiers-reunion-parade/
END:VEVENT
BEGIN:VEVENT
DTSTART;TZID=America/Chicago:20210806T170000
DTEND;TZID=America/Chicago:20210806T170000
DTSTAMP:20260422T070043
CREATED:20210713T173302Z
LAST-MODIFIED:20210713T173406Z
UID:41923-1628269200-1628269200@kffb.com
SUMMARY:Fairfield Bay Library Fish Fry
DESCRIPTION:The Fairfield Bay Library will be hosting a Community Fish Fry on Friday\, August 6\, 2021 at the Woodland Mead Park Pavilion in Fairfield Bay.  John 3:16 Ministries will be catering the event and serving up their amazing catfish/chicken dinners.
URL:https://kffb.com/event/fairfield-bay-library-fish-fr/
END:VEVENT
BEGIN:VEVENT
DTSTART;TZID=America/Chicago:20210807T080000
DTEND;TZID=America/Chicago:20210807T150000
DTSTAMP:20260422T070043
CREATED:20210720T004545Z
LAST-MODIFIED:20210720T004545Z
UID:41978-1628323200-1628348400@kffb.com
SUMMARY:Stuff the Bus School Supplies Drive
DESCRIPTION:August 7th 8:00 A.M. – 3:00 P.M. Stuff the Bus School Supplies Drive:  The United Way is hosting this event to help insure that every child in our community has the school supplies and tools to succeed.  The main event will be held on the 7th of August but we need locations where the United Way can set up a donation box and volunteers for the main event.  For more questions contact Anneliese Hounsel at a.hounsel@uwcark.org or give her a call at 501-327-5087.
URL:https://kffb.com/event/stuff-the-bus-school-supplies-drive/
END:VEVENT
BEGIN:VEVENT
DTSTART;TZID=America/Chicago:20210807T100000
DTEND;TZID=America/Chicago:20210807T140000
DTSTAMP:20260422T070043
CREATED:20210713T173753Z
LAST-MODIFIED:20210713T173753Z
UID:41927-1628330400-1628344800@kffb.com
SUMMARY:Veteran Covid Clinic
DESCRIPTION:A covid clinic will be held at Amerian Legion #64 in Heber Springs. The covid vaccination clinic will be held from 10am to 2pm on August 7th.
URL:https://kffb.com/event/veteran-covid-clinic/
END:VEVENT
BEGIN:VEVENT
DTSTART;TZID=America/Chicago:20210808T160000
DTEND;TZID=America/Chicago:20210808T180000
DTSTAMP:20260422T070043
CREATED:20210726T215721Z
LAST-MODIFIED:20210726T215721Z
UID:42053-1628438400-1628445600@kffb.com
SUMMARY:Tumbling Shoals Back To School Bash
DESCRIPTION:Tumbling Shoals Baptist Church will host a “Back to School Bash”  on the church parking lot\, Sunday\, August 8 from 4-6 pm.  There will be lots of games to play\, bounce houses for the kids\, hot dogs\, snow cones and after school snack pack giveaways.  Bring the whole family for an afternoon of fun!
URL:https://kffb.com/event/tumbling-shoals-back-to-school-bash/
END:VEVENT
BEGIN:VEVENT
DTSTART;TZID=America/Chicago:20210813T070000
DTEND;TZID=America/Chicago:20210813T083000
DTSTAMP:20260422T070043
CREATED:20210721T024400Z
LAST-MODIFIED:20210721T024400Z
UID:41998-1628838000-1628843400@kffb.com
SUMMARY:Teacher Breakfast & Education Fair
DESCRIPTION:Teacher Breakfast & Education Fair\nFriday\, August 13\n7:00 – 8:45 a.m.\nConway High School-West Cafeteria
URL:https://kffb.com/event/teacher-breakfast-education-fair/
END:VEVENT
BEGIN:VEVENT
DTSTART;TZID=America/Chicago:20210814T180000
DTEND;TZID=America/Chicago:20210814T180000
DTSTAMP:20260422T070043
CREATED:20210804T211201Z
LAST-MODIFIED:20210804T211201Z
UID:42097-1628964000-1628964000@kffb.com
SUMMARY:2nd Saturday Nite Bingo in Heber Springs
DESCRIPTION:2nd Saturday Nite Bingo. August 14\, 2021\, at St Albert Catholic Church\, 21 Park Rd.\, Heber Springs\, AR 72543. We begin at 6 pm with Quickfire games at 6 pm. Concession stand open with delicious homemade desserts. Smoke free environment. Bring and friend and join in the fun.
URL:https://kffb.com/event/2nd-saturday-nite-bingo-in-heber-springs/
END:VEVENT
BEGIN:VEVENT
DTSTART;TZID=America/Chicago:20210817T073000
DTEND;TZID=America/Chicago:20210817T073000
DTSTAMP:20260422T070043
CREATED:20210811T143009Z
LAST-MODIFIED:20210811T143009Z
UID:42133-1629185400-1629185400@kffb.com
SUMMARY:Ministerial Alliance Meeting in Heber Springs
DESCRIPTION:The Ministerial Alliance of Heber Springs will meet Tuesday\, August 17th\, beginning 7:30am\, at The Rustic Inn in Heber Springs.  All Pastors and church staff are invited.
URL:https://kffb.com/event/ministerial-alliance-meeting-in-heber-springs/
END:VEVENT
BEGIN:VEVENT
DTSTART;TZID=America/Chicago:20210818T140000
DTEND;TZID=America/Chicago:20210818T170000
DTSTAMP:20260422T070043
CREATED:20210726T220558Z
LAST-MODIFIED:20210726T220558Z
UID:42059-1629295200-1629306000@kffb.com
SUMMARY:Conway Daze
DESCRIPTION:In an effort to reach new students at the University of Central Arkansas and welcome them into the UCA community and city of Conway\, the Department of New Student Programs is excited to once again offer Conway Daze during UCA’s Welcome Week! For 2021\, Conway Daze will be held on Wednesday\, August 18 from 2:00-5:00pm in the UCA Student Center Courtyard and Amphitheater. \nFinding a place to get a haircut\, shopping for groceries\, grabbing a bite to eat\, or getting an oil change are just a few of the adjustments to a new community. Conway Daze is an opportunity for local businesses and organizations to reach new students during their first week on campus and provide them with information about the resources and services they offer. While Conway Daze is specifically marketed to incoming students\, the entire campus is welcome to attend. \nStudents will be able to browse booths and pick up information\, coupons\, discounts\, samples\, and promotional items and leave more knowledgeable about the Conway and UCA communities. We would love for you to participate in Conway Daze! \nVisit uca.edu/orientation/conwaydaze to learn more and register your business or organization.
URL:https://kffb.com/event/conway-daze/
END:VEVENT
BEGIN:VEVENT
DTSTART;TZID=America/Chicago:20210826T183000
DTEND;TZID=America/Chicago:20210826T183000
DTSTAMP:20260422T070043
CREATED:20210804T211309Z
LAST-MODIFIED:20210804T211309Z
UID:42099-1630002600-1630002600@kffb.com
SUMMARY:Historic Bethlehem Museums & Sites
DESCRIPTION:Global Water Dances uses the international languages of dance and film to promote awareness and a behavioral shift toward solutions for water preservation and conservation through community engagement. Watch the screening of the site-specific performance and join in the discussion around water issues in the Lehigh Valley.
URL:https://kffb.com/event/historic-bethlehem-museums-sites/
END:VEVENT
BEGIN:VEVENT
DTSTART;TZID=America/Chicago:20210829T180000
DTEND;TZID=America/Chicago:20210829T180000
DTSTAMP:20260422T070043
CREATED:20210811T143109Z
LAST-MODIFIED:20210811T143109Z
UID:42135-1630260000-1630260000@kffb.com
SUMMARY:5th Sunday Singing in Heber Springs
DESCRIPTION:Southside Baptist Church of Heber Springs will be hosting 5th Sunday Singing on August 29th\, beginning at 6pm.  Anyone who would like to sing please call Chuck Hocking\, Minister of Music\, at 501-362-9496.  Southside Baptist is located at 640 Heber Springs Road South. Everyone is invited.
URL:https://kffb.com/event/5th-sunday-singing-in-heber-springs/
END:VEVENT
END:VCALENDAR