BEGIN:VCALENDAR
VERSION:2.0
PRODID:-//KFFB 106.1 FM -- Arkansas Radio -- Online Radio--Arkansas Politics--Local News - ECPv6.15.20//NONSGML v1.0//EN
CALSCALE:GREGORIAN
METHOD:PUBLISH
X-WR-CALNAME:KFFB 106.1 FM -- Arkansas Radio -- Online Radio--Arkansas Politics--Local News
X-ORIGINAL-URL:https://kffb.com
X-WR-CALDESC:Events for KFFB 106.1 FM -- Arkansas Radio -- Online Radio--Arkansas Politics--Local News
REFRESH-INTERVAL;VALUE=DURATION:PT1H
X-Robots-Tag:noindex
X-PUBLISHED-TTL:PT1H
BEGIN:VTIMEZONE
TZID:America/Chicago
BEGIN:DAYLIGHT
TZOFFSETFROM:-0600
TZOFFSETTO:-0500
TZNAME:CDT
DTSTART:20210314T080000
END:DAYLIGHT
BEGIN:STANDARD
TZOFFSETFROM:-0500
TZOFFSETTO:-0600
TZNAME:CST
DTSTART:20211107T070000
END:STANDARD
BEGIN:DAYLIGHT
TZOFFSETFROM:-0600
TZOFFSETTO:-0500
TZNAME:CDT
DTSTART:20220313T080000
END:DAYLIGHT
BEGIN:STANDARD
TZOFFSETFROM:-0500
TZOFFSETTO:-0600
TZNAME:CST
DTSTART:20221106T070000
END:STANDARD
BEGIN:DAYLIGHT
TZOFFSETFROM:-0600
TZOFFSETTO:-0500
TZNAME:CDT
DTSTART:20230312T080000
END:DAYLIGHT
BEGIN:STANDARD
TZOFFSETFROM:-0500
TZOFFSETTO:-0600
TZNAME:CST
DTSTART:20231105T070000
END:STANDARD
END:VTIMEZONE
BEGIN:VEVENT
DTSTART;VALUE=DATE:20220803
DTEND;VALUE=DATE:20220804
DTSTAMP:20260422T164152
CREATED:20220817T235222Z
LAST-MODIFIED:20220817T235222Z
UID:43923-1659484800-1659571199@kffb.com
SUMMARY:Pottery Shop Popup Market in Clinton
DESCRIPTION:September 3rd Pottery Shop Popup Market: In addition to all of the unique items the Pottery Shop offers there will be a parking lot full of tents with a collection of vintage curators\, handmade artisans\, and local small business to display their items at the Pottery Shop in Clinton.  They are now accepting applications for venders.  For more information or to register your booth contact he pottery shop at 501-745-2060.
URL:https://kffb.com/event/pottery-shop-popup-market-in-clinton/
END:VEVENT
BEGIN:VEVENT
DTSTART;TZID=America/Chicago:20220805T080000
DTEND;TZID=America/Chicago:20220806T170000
DTSTAMP:20260422T164152
CREATED:20220728T220818Z
LAST-MODIFIED:20220728T220818Z
UID:43892-1659686400-1659805200@kffb.com
SUMMARY:Water Carnival in Batesville
DESCRIPTION:Big fun at the White River Carnival in Batesville. Music\, vendors\, parade and more!
URL:https://kffb.com/event/water-carnival-in-batesville/
END:VEVENT
BEGIN:VEVENT
DTSTART;TZID=America/Chicago:20220806T090000
DTEND;TZID=America/Chicago:20220806T120000
DTSTAMP:20260422T164152
CREATED:20220503T163746Z
LAST-MODIFIED:20220503T163746Z
UID:43538-1659776400-1659787200@kffb.com
SUMMARY:Stone County Health Fair in Mt. View
DESCRIPTION:The Stone County Health Fair will be held on August 6th from 9am to 12pm. The event will take place at the county fairgrounds.
URL:https://kffb.com/event/stone-county-health-fair-in-mt-view/
END:VEVENT
BEGIN:VEVENT
DTSTART;TZID=America/Chicago:20220806T090000
DTEND;TZID=America/Chicago:20220806T120000
DTSTAMP:20260422T164152
CREATED:20220629T015925Z
LAST-MODIFIED:20220629T015925Z
UID:43770-1659776400-1659787200@kffb.com
SUMMARY:Mt. View Health Fair
DESCRIPTION:The Mt. View Health Fair will be held on August 6th at the Mt. View High School from 9am to 12pm.
URL:https://kffb.com/event/mt-view-health-fair/
END:VEVENT
BEGIN:VEVENT
DTSTART;TZID=America/Chicago:20220806T180000
DTEND;TZID=America/Chicago:20220806T180000
DTSTAMP:20260422T164152
CREATED:20220728T220623Z
LAST-MODIFIED:20220728T220623Z
UID:43888-1659808800-1659808800@kffb.com
SUMMARY:A Gospel Singing by The Howell Family
DESCRIPTION:The Howell Family Gospel Group will be here Singing at 6:00 PM – Join us for an evening of Southern Gospel Music!
URL:https://kffb.com/event/a-gospel-singing-by-the-howell-family/
END:VEVENT
BEGIN:VEVENT
DTSTART;TZID=America/Chicago:20220809T093000
DTEND;TZID=America/Chicago:20220809T180000
DTSTAMP:20260422T164152
CREATED:20220805T142109Z
LAST-MODIFIED:20220805T142109Z
UID:43907-1660037400-1660068000@kffb.com
SUMMARY:Back To School Immunization Clinics
DESCRIPTION:Back to School Immunization Clinics \nTuesday\, August 9\, 2022\n9:30 am to 6:00 pm \nCall your closest Health Department\nand schedule an appointment \nIndependence 870-793-8848; Stone 870-269-3308\nIzard 870-368-7790; Fulton 870-895-3300\nCleburne 501-362-7581; Sharp 870-994-7364 \nWalk-ins welcome
URL:https://kffb.com/event/back-to-school-immunization-clinics/
END:VEVENT
BEGIN:VEVENT
DTSTART;TZID=America/Chicago:20220814T180000
DTEND;TZID=America/Chicago:20220814T180000
DTSTAMP:20260422T164152
CREATED:20220715T124812Z
LAST-MODIFIED:20220715T124812Z
UID:43866-1660500000-1660500000@kffb.com
SUMMARY:Tribute Quartet In Concert
DESCRIPTION:Join us for a wonderful evening of Southern Gospel Music with the Tribute Quartet! August 14th at 6pm. Love Offering Only. All Welcome!
URL:https://kffb.com/event/tribute-quartet-in-concert/
END:VEVENT
BEGIN:VEVENT
DTSTART;TZID=America/Chicago:20220819T070000
DTEND;TZID=America/Chicago:20220819T090000
DTSTAMP:20260422T164152
CREATED:20220630T223647Z
LAST-MODIFIED:20220630T223647Z
UID:43795-1660892400-1660899600@kffb.com
SUMMARY:Conway Teacher Breakfast and Education Fair
DESCRIPTION:Baptist Health – Conway Teacher Breakfast & Education Fair\nFriday\, August 19\n7:00 – 8:45 a.m.\nConway High School Cafeteria \nIs your business looking to reach… Predominantly female customers? Household and health care decision makers? Income earners with an average salary of $55K? If so\, join more than 100 participating vendors and share your business with 500+ educators at the Baptist Health – Conway Teacher Breakfast & Education Fair\, presented by Conway Corporation.  \nVisit ConwayChamber.org to register online and reserve your tables by August 1. \nThe Baptist Health – Conway Teacher Breakfast and Education Fair is presented by Conway Corporation. Breakfast sponsors include Chick-fil-A\, Klaasmeyer Construction\, RE/MAX Elite: The Emily Walter Team\, and Sam’s Club. Other major sponsors include Braswell & Son\, Centennial Bank\, Cintas\, Conway Children’s Clinic\, First Arkansas Bank and Trust\, Karen Ferguson Team – RE/MAX Elite\, Sissy’s Log Cabin\, Snap-on Equipment\, and Virco.  \nFor additional information\, please contact Mary Margaret Satterfield at Mary@ConwayArkansas.org or 501.932.5412.
URL:https://kffb.com/event/conway-teacher-breakfast-and-education-fair/
END:VEVENT
END:VCALENDAR