BEGIN:VCALENDAR
VERSION:2.0
PRODID:-//KFFB 106.1 FM -- Arkansas Radio -- Online Radio--Arkansas Politics--Local News - ECPv6.15.20//NONSGML v1.0//EN
CALSCALE:GREGORIAN
METHOD:PUBLISH
X-WR-CALNAME:KFFB 106.1 FM -- Arkansas Radio -- Online Radio--Arkansas Politics--Local News
X-ORIGINAL-URL:https://kffb.com
X-WR-CALDESC:Events for KFFB 106.1 FM -- Arkansas Radio -- Online Radio--Arkansas Politics--Local News
REFRESH-INTERVAL;VALUE=DURATION:PT1H
X-Robots-Tag:noindex
X-PUBLISHED-TTL:PT1H
BEGIN:VTIMEZONE
TZID:America/Chicago
BEGIN:DAYLIGHT
TZOFFSETFROM:-0600
TZOFFSETTO:-0500
TZNAME:CDT
DTSTART:20210314T080000
END:DAYLIGHT
BEGIN:STANDARD
TZOFFSETFROM:-0500
TZOFFSETTO:-0600
TZNAME:CST
DTSTART:20211107T070000
END:STANDARD
BEGIN:DAYLIGHT
TZOFFSETFROM:-0600
TZOFFSETTO:-0500
TZNAME:CDT
DTSTART:20220313T080000
END:DAYLIGHT
BEGIN:STANDARD
TZOFFSETFROM:-0500
TZOFFSETTO:-0600
TZNAME:CST
DTSTART:20221106T070000
END:STANDARD
BEGIN:DAYLIGHT
TZOFFSETFROM:-0600
TZOFFSETTO:-0500
TZNAME:CDT
DTSTART:20230312T080000
END:DAYLIGHT
BEGIN:STANDARD
TZOFFSETFROM:-0500
TZOFFSETTO:-0600
TZNAME:CST
DTSTART:20231105T070000
END:STANDARD
END:VTIMEZONE
BEGIN:VEVENT
DTSTART;TZID=America/Chicago:20221129T180000
DTEND;TZID=America/Chicago:20221203T190000
DTSTAMP:20260422T065042
CREATED:20221116T022619Z
LAST-MODIFIED:20221116T022619Z
UID:44264-1669744800-1670094000@kffb.com
SUMMARY:Behold The Lamb Live Nativity in Clinton
DESCRIPTION:November 29th – December 3rd 6:00 P.M. & 7:00 P.M. Behold The Lamb: The 25th annual live nativity Behold The Lamb will be held at the Van Buren County Fairgrounds. There will be two live performances nightly at 6:00 P.M. & 7:00 P.M. featuring local children and animals. Dress for the weather\, cocoa and coffee served. For more information contact at 501-253-0288.
URL:https://kffb.com/event/behold-the-lamb-live-nativity-in-clinton/
END:VEVENT
BEGIN:VEVENT
DTSTART;TZID=America/Chicago:20221202T180000
DTEND;TZID=America/Chicago:20221202T200000
DTSTAMP:20260422T065042
CREATED:20221120T185100Z
LAST-MODIFIED:20221120T185100Z
UID:44276-1670004000-1670011200@kffb.com
SUMMARY:Pictures with Santa in Mt. View
DESCRIPTION:Pictures with Santa to be held Friday\, Dec. 2\, 6 to 8 p.m. at Stone Bank  \nStone Bank announced that the “Pictures with Santa “event will be held Friday\, December 2\, 6 to 8 p.m. at the Stone Bank Pavilion\, 802 East Main Street in Mountain View.  “Santa will be posing for photos with kids of all ages\,” said Kendall Stubbs with Stone Bank.  \nLocal photographer Rita Ward will take the photographs and send a digital copy to all participants at no cost.  Hot chocolate and cookies will be served to everyone.
URL:https://kffb.com/event/pictures-with-santa-in-mt-view/
END:VEVENT
BEGIN:VEVENT
DTSTART;TZID=America/Chicago:20221203T110000
DTEND;TZID=America/Chicago:20221203T110000
DTSTAMP:20260422T065042
CREATED:20221111T200300Z
LAST-MODIFIED:20221111T200300Z
UID:44246-1670065200-1670065200@kffb.com
SUMMARY:U Name It Pets Ribbon Cutting in Clinton
DESCRIPTION:December 3rd 11:00 A.M. U Name it Pets Ribbon Cutting: Help us welcome U Name it Pets to our community at 794 Highway 65 B across from Pistole Pawn Shop.  They will be offering a variety of pets and pet supplies locally providing a convenient location for all your pets needs.
URL:https://kffb.com/event/u-name-it-pets-ribbon-cutting-in-clinton/
END:VEVENT
BEGIN:VEVENT
DTSTART;TZID=America/Chicago:20221203T173000
DTEND;TZID=America/Chicago:20221203T173000
DTSTAMP:20260422T065042
CREATED:20221111T201145Z
LAST-MODIFIED:20221111T201145Z
UID:44252-1670088600-1670088600@kffb.com
SUMMARY:Ozark Health Foundation’s 2022 Emerald Gala Fundraiser in Fairfield Bay
DESCRIPTION:December 3rd 5:30 P.M. Ozark Health Foundation’s 2022 Emerald Gala Fundraiser: Join us in helping celebrating 20 years of Foundation Achievements. To reserve your ticket or table\, please contact the Foundation at (501)745-9714. All proceeds will be used to purchase a portable x-ray machine for Ozark Health Medical Center.  Tickets are $150 and are tax deductible to the full extent allowed by law.  This event will be held at the Fairfield Bay Conference Center.
URL:https://kffb.com/event/ozark-health-foundations-2022-emerald-gala-fundraiser-in-fairfield-bay/
END:VEVENT
BEGIN:VEVENT
DTSTART;TZID=America/Chicago:20221204T140000
DTEND;TZID=America/Chicago:20221204T140000
DTSTAMP:20260422T065042
CREATED:20221204T155517Z
LAST-MODIFIED:20221204T155517Z
UID:44312-1670162400-1670162400@kffb.com
SUMMARY:Van Buren County Christmas Pageant
DESCRIPTION:December 4th 2:00 P.M. Van Buren County Christmas Pageant: This year’s pageant will be held at the Van Buren County Fairgrounds.  Forms for signup are available at Sew What and Family Hair.  For more information contact Dana at 501-253-3206.
URL:https://kffb.com/event/van-buren-county-christmas-pageant/
END:VEVENT
BEGIN:VEVENT
DTSTART;TZID=America/Chicago:20221204T140000
DTEND;TZID=America/Chicago:20221204T170000
DTSTAMP:20260422T065042
CREATED:20221120T184946Z
LAST-MODIFIED:20221120T184946Z
UID:44274-1670162400-1670173200@kffb.com
SUMMARY:EdenSong Concert in Heber Springs
DESCRIPTION:“What sweeter music can we bring than a carol for to sing?”  This most sincere seasonal query was penned by poet Robert Herrick (1591-1674)\, and has been set in a lovely anthem by John Rutter\, well-known contemporary choral composer and arranger.  Indeed\, sweet music of the season will be on the program as EdenSong Regional Chorale performs on Sunday\, December 4\, 2022.  The concert will be presented at 2:00 at Heber Springs First Baptist Church (201 North 4th Street)\, where the group regularly rehearses from September to May each year. \nEdenSong Chorale has been in existence since 1990\, and with exception of Covid-era-missed concerts\, has been making beautiful music at least twice a year since that date.  The group sings under direction of Analea Tomlinson Cook of Fairfield Bay and is accompanied by Dr. Tammie Burger of Heber Springs.  The 26-member chorale includes majority Cleburne County residents\, but also represents Van Buren and White Counties in the membership.  (As a side note\, interested singers are welcome to contact Analea Cook or Board President Patricia Carlin about becoming involved!) \nThis December\, in addition to other selections\, the Chorale will present a cantata entitled “Christmas Is Coming\,” with narration provided by Jefferson Craddock of Heber Springs.  Also on the program will be a piano-flute duet by Dr. Tammie Burger and Flautist Gretchen Klanke.  Another treat will be a men’s quartet made up of David Baeder\, Justin Baeder\, Mike Szabo and Dee Spann.  Additional choral pieces by John Rutter\, in addition to ‘What Sweeter Music\,’ are programmed\, as are selections by Gustav Holst\, J. Paul Williams and Anna Laura Page\, a Christmas Carol Sing-Along\, and the annual finale\, Handel’s “Hallelujah Chorus.”  EdenSong’s goal is to prepare music of quality and perform it well. The audience is sure to find something to please every musical taste in the selections on each concert line-up.   \nWhile EdenSong Concerts are always FREE TO THE PUBLIC\, donations are gratefully accepted to help keep the music going for another 30+ years!  Thanks for supporting this choral effort; please mark your calendars and tell your friends and families to come with you.  Questions?  Email at EdenSongChorale@gmail.com and find the group on Facebook:  EdenSongRegionalChorale.  Hope to see you there.
URL:https://kffb.com/event/edensong-concert-in-heber-springs/
END:VEVENT
BEGIN:VEVENT
DTSTART;TZID=America/Chicago:20221206T070000
DTEND;TZID=America/Chicago:20221206T100000
DTSTAMP:20260422T065042
CREATED:20221204T154735Z
LAST-MODIFIED:20221204T154735Z
UID:44310-1670310000-1670320800@kffb.com
SUMMARY:Veterans Food Pantry
DESCRIPTION:American Legion Post 91 of Beebe. Veterans must bring a DD214\, Military ID\, or a VA Card to receive food from our Veterans Food Pantry. If you have any questions please contact Veterans Service Officer Doug Warner at (501)259-5819 Or Veterans Service Officer Beverly Wood at (501)827-5932.
URL:https://kffb.com/event/veterans-food-pantry/
END:VEVENT
BEGIN:VEVENT
DTSTART;TZID=America/Chicago:20221206T173000
DTEND;TZID=America/Chicago:20221206T173000
DTSTAMP:20260422T065042
CREATED:20221204T154619Z
LAST-MODIFIED:20221204T154619Z
UID:44308-1670347800-1670347800@kffb.com
SUMMARY:Christmas Social
DESCRIPTION:Rodney Jordan Fire Protection District Auxiliary\nChristmas Social – December 6th\, 2022 – 5:30pm\nBring a covered dish to share – Dessert/Drinks provided\nRaffle tickets will be sold\nAuxiliary dues: $5.00 per person/$10 per family
URL:https://kffb.com/event/christmas-social/
END:VEVENT
BEGIN:VEVENT
DTSTART;TZID=America/Chicago:20221209T183000
DTEND;TZID=America/Chicago:20221209T183000
DTSTAMP:20260422T065042
CREATED:20221204T155652Z
LAST-MODIFIED:20221204T155652Z
UID:44314-1670610600-1670610600@kffb.com
SUMMARY:Ruddell Hill Baptist Church Christmas Event
DESCRIPTION:Ruddell Hill Baptist Church would like to invite the Batesville community to our free Christmas event called “Voices of the Nativity”. Santa will stop by for the children and we will offer free snacks and free goody bags. Located at 895 Bethesda Road\, Batesville\, AR. 72501. December 9\, 2022. 6:30 pm.
URL:https://kffb.com/event/ruddell-hill-baptist-church-christmas-event/
END:VEVENT
BEGIN:VEVENT
DTSTART;TZID=America/Chicago:20221210T080000
DTEND;TZID=America/Chicago:20221210T170000
DTSTAMP:20260422T065042
CREATED:20221209T012042Z
LAST-MODIFIED:20221209T012042Z
UID:44337-1670659200-1670691600@kffb.com
SUMMARY:Bingo Cancelled For December
DESCRIPTION:2nd Saturday Nite Bingo for December 10th\, at St Albert Catholic Church\, Heber Springs\, has been cancelled. Bingo will resume on\nJanuary 14th\, 2023.
URL:https://kffb.com/event/bingo-cancelled-for-december/
END:VEVENT
BEGIN:VEVENT
DTSTART;TZID=America/Chicago:20221211T133000
DTEND;TZID=America/Chicago:20221211T133000
DTSTAMP:20260422T065042
CREATED:20221209T012305Z
LAST-MODIFIED:20221209T012305Z
UID:44341-1670765400-1670765400@kffb.com
SUMMARY:Small Town Amateur Radio Service Meeting in Searcy
DESCRIPTION:STARS\, (Small Town Amateur Radio Service) a ham radio club\, holds their monthly meeting with testing available on the second Sunday of each month. December 11th 1:30pm is the next meeting at 600 N Grant Street\, Cabot‬ (Criswell-Robinson American Legion Post 71). For any questions\, please contact Scott Berrier at berriersm@gmail.com\, or see their Facebook page\, #Cabot STARS Club (W5STR).
URL:https://kffb.com/event/small-town-amateur-radio-service-meeting-in-searcy/
END:VEVENT
BEGIN:VEVENT
DTSTART;TZID=America/Chicago:20221211T170000
DTEND;TZID=America/Chicago:20221211T170000
DTSTAMP:20260422T065042
CREATED:20221204T153803Z
LAST-MODIFIED:20221204T153803Z
UID:44299-1670778000-1670778000@kffb.com
SUMMARY:Christmas Musical
DESCRIPTION:A Christmas Musical “His Name is Jesus” will be presented at Fairfield Bay Baptist on December 11th at 5pm.
URL:https://kffb.com/event/christmas-musical/
END:VEVENT
BEGIN:VEVENT
DTSTART;TZID=America/Chicago:20221216T080000
DTEND;TZID=America/Chicago:20221217T170000
DTSTAMP:20260422T065042
CREATED:20221215T033753Z
LAST-MODIFIED:20221215T033753Z
UID:44343-1671177600-1671296400@kffb.com
SUMMARY:Christmas Bazaar in Clinton
DESCRIPTION:Come see the many vendors and handcrafted items at the Annual Christmas Bazaar in Clinton. Friday and Saturday from 8am to 5pm.
URL:https://kffb.com/event/christmas-bazaar-in-clinton/
END:VEVENT
BEGIN:VEVENT
DTSTART;TZID=America/Chicago:20221217T120000
DTEND;TZID=America/Chicago:20221217T130000
DTSTAMP:20260422T065042
CREATED:20221209T012126Z
LAST-MODIFIED:20221209T012126Z
UID:44339-1671278400-1671282000@kffb.com
SUMMARY:Ruddell Hill Free Community Drive Thru Lunch
DESCRIPTION:Ruddell Hill Baptist Church will be hosting a free community Drive-Thru Lunch on Saturday\, December 17th\, 2022 from 12:00 pm to 1:00 pm. We will serve free sandwiches and snacks. First come\, first serve! Invite your family and friends and anyone you know that may be in need of a meal.
URL:https://kffb.com/event/ruddell-hill-free-community-drive-thru-lunch/
END:VEVENT
BEGIN:VEVENT
DTSTART;TZID=America/Chicago:20221217T160000
DTEND;TZID=America/Chicago:20221217T170000
DTSTAMP:20260422T065042
CREATED:20221209T011755Z
LAST-MODIFIED:20221209T011755Z
UID:44333-1671292800-1671296400@kffb.com
SUMMARY:Conway Christmas Parade
DESCRIPTION:The Conway Christmas Parade will be held downtown starting at 4pm.
URL:https://kffb.com/event/conway-christmas-parade-3/
END:VEVENT
BEGIN:VEVENT
DTSTART;TZID=America/Chicago:20221231T200000
DTEND;TZID=America/Chicago:20221231T200000
DTSTAMP:20260422T065042
CREATED:20221220T233210Z
LAST-MODIFIED:20221220T233210Z
UID:44353-1672516800-1672516800@kffb.com
SUMMARY:New Year Celebration in Fairfield Bay
DESCRIPTION:New Year’s Celebration\, Saturday\, December 31st at the Conference Center. Celebrate with the Midnight Express Band.  Includes heavy hors d’oeuvres\, favors\, & a midnight toast. Starts at 8:00 pm. Call the Conference center for more information\, at 501-884-4202.
URL:https://kffb.com/event/new-year-celebration-in-fairfield-bay/
END:VEVENT
END:VCALENDAR